BEGIN:VCALENDAR
VERSION:2.0
PRODID:icalendar-ruby
CALSCALE:GREGORIAN
METHOD:PUBLISH
BEGIN:VEVENT
DTSTAMP:20260419T192444Z
UID:16-4946042@heritagebaptistcalhoun.com
DTSTART:20250914T134500Z
DTEND:20250914T144500Z
CLASS:PUBLIC
CREATED:20260419T142120
DESCRIPTION:Sunday School
LAST-MODIFIED:20260419T142120
LOCATION:<<Based on Classroom assignment>>
SUMMARY:Sunday School
URL;VALUE=URI:https://www.heritagebaptistcalhoun.com/events/sunday-school/2
 025-09-14
END:VEVENT
END:VCALENDAR
