BEGIN:VCALENDAR
VERSION:2.0
PRODID:icalendar-ruby
CALSCALE:GREGORIAN
METHOD:PUBLISH
BEGIN:VEVENT
DTSTAMP:20260419T140434Z
UID:16-4939377@heritagebaptistcalhoun.com
DTSTART:20250824T134500Z
DTEND:20250824T144500Z
CLASS:PUBLIC
CREATED:20260419T065621
DESCRIPTION:Sunday School
LAST-MODIFIED:20260419T065621
LOCATION:<<Based on Classroom assignment>>
SUMMARY:Sunday School
URL;VALUE=URI:https://www.heritagebaptistcalhoun.com/events/sunday-school/2
 025-08-24
END:VEVENT
END:VCALENDAR
