BEGIN:VCALENDAR
VERSION:2.0
PRODID:icalendar-ruby
CALSCALE:GREGORIAN
METHOD:PUBLISH
BEGIN:VEVENT
DTSTAMP:20260419T121358Z
UID:16-4939376@heritagebaptistcalhoun.com
DTSTART:20250817T134500Z
DTEND:20250817T144500Z
CLASS:PUBLIC
CREATED:20260419T065621
DESCRIPTION:Sunday School
LAST-MODIFIED:20260419T065621
LOCATION:<<Based on Classroom assignment>>
SUMMARY:Sunday School
URL;VALUE=URI:https://www.heritagebaptistcalhoun.com/events/sunday-school/2
 025-08-17
END:VEVENT
END:VCALENDAR
