BEGIN:VCALENDAR
VERSION:2.0
PRODID:icalendar-ruby
CALSCALE:GREGORIAN
METHOD:PUBLISH
BEGIN:VEVENT
DTSTAMP:20260423T020248Z
UID:22-5017404@heritagebaptistcalhoun.com
DTSTART:20261025T213000Z
DTEND:20261025T223000Z
CLASS:PUBLIC
CREATED:20260422T211505
DESCRIPTION:Men's Sunday Prayer Group
LAST-MODIFIED:20260422T211505
LOCATION:Classroom#
SUMMARY:Men's Sunday Prayer Group
URL;VALUE=URI:https://www.heritagebaptistcalhoun.com/events/mens-sunday-pra
 yer-group/2026-10-25
END:VEVENT
END:VCALENDAR
