BEGIN:VCALENDAR
VERSION:2.0
PRODID:icalendar-ruby
CALSCALE:GREGORIAN
METHOD:PUBLISH
BEGIN:VEVENT
DTSTAMP:20260422T235854Z
UID:22-5014061@heritagebaptistcalhoun.com
DTSTART:20261018T213000Z
DTEND:20261018T223000Z
CLASS:PUBLIC
CREATED:20260422T182311
DESCRIPTION:Men's Sunday Prayer Group
LAST-MODIFIED:20260422T182311
LOCATION:Classroom#
SUMMARY:Men's Sunday Prayer Group
URL;VALUE=URI:https://www.heritagebaptistcalhoun.com/events/mens-sunday-pra
 yer-group/2026-10-18
END:VEVENT
END:VCALENDAR
