BEGIN:VCALENDAR
VERSION:2.0
PRODID:icalendar-ruby
CALSCALE:GREGORIAN
METHOD:PUBLISH
BEGIN:VEVENT
DTSTAMP:20260422T220343Z
UID:22-5010720@heritagebaptistcalhoun.com
DTSTART:20261011T213000Z
DTEND:20261011T223000Z
CLASS:PUBLIC
CREATED:20260422T152856
DESCRIPTION:Men's Sunday Prayer Group
LAST-MODIFIED:20260422T152856
LOCATION:Classroom#
SUMMARY:Men's Sunday Prayer Group
URL;VALUE=URI:https://www.heritagebaptistcalhoun.com/events/mens-sunday-pra
 yer-group/2026-10-11
END:VEVENT
END:VCALENDAR
