BEGIN:VCALENDAR
VERSION:2.0
PRODID:icalendar-ruby
CALSCALE:GREGORIAN
METHOD:PUBLISH
BEGIN:VEVENT
DTSTAMP:20260422T144053Z
UID:22-5004038@heritagebaptistcalhoun.com
DTSTART:20260913T213000Z
DTEND:20260913T223000Z
CLASS:PUBLIC
CREATED:20260422T093842
DESCRIPTION:Men's Sunday Prayer Group
LAST-MODIFIED:20260422T093842
LOCATION:Classroom#
SUMMARY:Men's Sunday Prayer Group
URL;VALUE=URI:https://www.heritagebaptistcalhoun.com/events/mens-sunday-pra
 yer-group/2026-09-13
END:VEVENT
END:VCALENDAR
