BEGIN:VCALENDAR
VERSION:2.0
PRODID:icalendar-ruby
CALSCALE:GREGORIAN
METHOD:PUBLISH
BEGIN:VEVENT
DTSTAMP:20260422T104838Z
UID:22-5000697@heritagebaptistcalhoun.com
DTSTART:20260830T213000Z
DTEND:20260830T223000Z
CLASS:PUBLIC
CREATED:20260422T064406
DESCRIPTION:Men's Sunday Prayer Group
LAST-MODIFIED:20260422T064406
LOCATION:Classroom#
SUMMARY:Men's Sunday Prayer Group
URL;VALUE=URI:https://www.heritagebaptistcalhoun.com/events/mens-sunday-pra
 yer-group/2026-08-30
END:VEVENT
END:VCALENDAR
