BEGIN:VCALENDAR
VERSION:2.0
PRODID:icalendar-ruby
CALSCALE:GREGORIAN
METHOD:PUBLISH
BEGIN:VEVENT
DTSTAMP:20260422T085225Z
UID:22-4997358@heritagebaptistcalhoun.com
DTSTART:20260823T213000Z
DTEND:20260823T223000Z
CLASS:PUBLIC
CREATED:20260421T194638
DESCRIPTION:Men's Sunday Prayer Group
LAST-MODIFIED:20260421T194638
LOCATION:Classroom#
SUMMARY:Men's Sunday Prayer Group
URL;VALUE=URI:https://www.heritagebaptistcalhoun.com/events/mens-sunday-pra
 yer-group/2026-08-23
END:VEVENT
END:VCALENDAR
