BEGIN:VCALENDAR
VERSION:2.0
PRODID:icalendar-ruby
CALSCALE:GREGORIAN
METHOD:PUBLISH
BEGIN:VEVENT
DTSTAMP:20260420T141444Z
UID:40-4964992@heritagebaptistcalhoun.com
DTSTART:20230112T233000Z
DTEND:20230113T000000Z
CLASS:PUBLIC
CREATED:20260420T091437
DESCRIPTION:Join us for a live prayer on the campus of Heritage Baptist Chu
 rch broadcast on Facebook Group\, Heritage BC Prayer Group Prayer Request 
 and Praise Reports\nThe Prayer list will be shared as well as the gospel o
 f Jesus Christ so please stop by and participate in this ministry and the 
 opportunity to share the faith\, hope and grace of our Lord Jesus.  #itsa
 llaboutJesus\nContact Steve and Nancy Godwin or Courtney Taylor
LAST-MODIFIED:20260420T091437
LOCATION:
SUMMARY:Live Facebook Prayer each Thursday at 6:30 pm 
URL;VALUE=URI:https://www.heritagebaptistcalhoun.com/events/live-facebook-p
 rayer-each-thursday-at-6-30-pm--40/2023-01-12
ATTACH;FILENAME=FBLIVEPRA.jpg;FMTTYPE=image/jpeg:https://dq5pwpg1q8ru0.clou
 dfront.net/2022/03/25/19/21/56/8feb2a30-e842-4e0e-8e9f-21cf64c3c2c9/FBLIVE
 PRA.jpg
ATTACH;FILENAME=LIVFB.jpg;FMTTYPE=image/jpeg:https://dq5pwpg1q8ru0.cloudfro
 nt.net/2022/03/25/19/23/59/719343ff-ec27-47fd-9e8a-18c3d64fdd5a/LIVFB.jpg
ATTACH;FILENAME=FAC.jpg;FMTTYPE=image/jpeg:https://dq5pwpg1q8ru0.cloudfront
 .net/2022/03/25/19/25/03/026ffef9-6ca2-47a0-b745-35854f8df53b/FAC.jpg
ATTACH;FILENAME=image0.jpeg;FMTTYPE=image/jpeg:https://dq5pwpg1q8ru0.cloudf
 ront.net/2022/07/30/17/47/04/0c57be16-a5dd-47b7-be67-88a71e717a18/image0.j
 peg
END:VEVENT
END:VCALENDAR
